BEGIN:VCALENDAR
VERSION:2.0
PRODID:-//Prologika - ECPv6.15.20//NONSGML v1.0//EN
CALSCALE:GREGORIAN
METHOD:PUBLISH
X-ORIGINAL-URL:https://prologika.com
X-WR-CALDESC:Events for Prologika
REFRESH-INTERVAL;VALUE=DURATION:PT1H
X-Robots-Tag:noindex
X-PUBLISHED-TTL:PT1H
BEGIN:VTIMEZONE
TZID:America/New_York
BEGIN:DAYLIGHT
TZOFFSETFROM:-0500
TZOFFSETTO:-0400
TZNAME:EDT
DTSTART:20160313T070000
END:DAYLIGHT
BEGIN:STANDARD
TZOFFSETFROM:-0400
TZOFFSETTO:-0500
TZNAME:EST
DTSTART:20161106T060000
END:STANDARD
BEGIN:DAYLIGHT
TZOFFSETFROM:-0500
TZOFFSETTO:-0400
TZNAME:EDT
DTSTART:20170312T070000
END:DAYLIGHT
BEGIN:STANDARD
TZOFFSETFROM:-0400
TZOFFSETTO:-0500
TZNAME:EST
DTSTART:20171105T060000
END:STANDARD
BEGIN:DAYLIGHT
TZOFFSETFROM:-0500
TZOFFSETTO:-0400
TZNAME:EDT
DTSTART:20180311T070000
END:DAYLIGHT
BEGIN:STANDARD
TZOFFSETFROM:-0400
TZOFFSETTO:-0500
TZNAME:EST
DTSTART:20181104T060000
END:STANDARD
END:VTIMEZONE
BEGIN:VEVENT
DTSTART;TZID=America/New_York:20170522T183000
DTEND;TZID=America/New_York:20170522T203000
DTSTAMP:20260422T235809
CREATED:20170420T113528Z
LAST-MODIFIED:20170420T113528Z
UID:4897-1495477800-1495485000@prologika.com
SUMMARY:Cortana Intelligence Suite End-to-End
DESCRIPTION:The Cortana Intelligence Suite provides tools to cover all types of business intelligence needs\, from compelling dashboards to cutting edge predictive analytics! In this session we will look at a predictive analytics solution that was developed in a single day. It leverages Azure Machine Learning\, Azure Data Factory\, HDInsight\, Spark\, Power BI\, and Intelligent Apps to deliver a solution that predicts the likelihood of flight delays for a customer.
URL:https://prologika.com/event/cortana-intelligence-suite-end-to-end/
LOCATION:South Terraces Building -Atlanta\, South Terraces Building (Auditorium Room)  115 Perimeter Center Place  Atlanta\, GA 30346\, Atlanta\, GA\, United States
END:VEVENT
END:VCALENDAR