BEGIN:VCALENDAR
VERSION:2.0
PRODID:-//Prologika - ECPv6.15.20//NONSGML v1.0//EN
CALSCALE:GREGORIAN
METHOD:PUBLISH
X-ORIGINAL-URL:https://prologika.com
X-WR-CALDESC:Events for Prologika
REFRESH-INTERVAL;VALUE=DURATION:PT1H
X-Robots-Tag:noindex
X-PUBLISHED-TTL:PT1H
BEGIN:VTIMEZONE
TZID:America/New_York
BEGIN:DAYLIGHT
TZOFFSETFROM:-0500
TZOFFSETTO:-0400
TZNAME:EDT
DTSTART:20160313T070000
END:DAYLIGHT
BEGIN:STANDARD
TZOFFSETFROM:-0400
TZOFFSETTO:-0500
TZNAME:EST
DTSTART:20161106T060000
END:STANDARD
BEGIN:DAYLIGHT
TZOFFSETFROM:-0500
TZOFFSETTO:-0400
TZNAME:EDT
DTSTART:20170312T070000
END:DAYLIGHT
BEGIN:STANDARD
TZOFFSETFROM:-0400
TZOFFSETTO:-0500
TZNAME:EST
DTSTART:20171105T060000
END:STANDARD
BEGIN:DAYLIGHT
TZOFFSETFROM:-0500
TZOFFSETTO:-0400
TZNAME:EDT
DTSTART:20180311T070000
END:DAYLIGHT
BEGIN:STANDARD
TZOFFSETFROM:-0400
TZOFFSETTO:-0500
TZNAME:EST
DTSTART:20181104T060000
END:STANDARD
END:VTIMEZONE
BEGIN:VEVENT
DTSTART;VALUE=DATE:20170715
DTEND;VALUE=DATE:20170716
DTSTAMP:20260422T235807
CREATED:20170617T231312Z
LAST-MODIFIED:20170625T161518Z
UID:5010-1500076800-1500163199@prologika.com
SUMMARY:What's New for BI in SQL Server 2017
DESCRIPTION:Just when you are done upgrading to version 2016\, SQL Server 2017 is here! SQL Server 2017 delivers important data analytics  features and enhancements.  Join this session to discover what's new for BI in SSRS\,  SSAS\, and SSIS\, and to see these features in action.
URL:https://prologika.com/event/whats-new-for-bi-in-sql-server-2017/
LOCATION:SQL Saturday Gwinnett\, 5150 Sugarloaf Parkway Bldg 900 Bldg\, Atlanta\, GA\, 30043\, United States
END:VEVENT
END:VCALENDAR