BEGIN:VCALENDAR
VERSION:2.0
PRODID:-//Prologika - ECPv6.15.20//NONSGML v1.0//EN
CALSCALE:GREGORIAN
METHOD:PUBLISH
X-ORIGINAL-URL:https://prologika.com
X-WR-CALDESC:Events for Prologika
REFRESH-INTERVAL;VALUE=DURATION:PT1H
X-Robots-Tag:noindex
X-PUBLISHED-TTL:PT1H
BEGIN:VTIMEZONE
TZID:America/New_York
BEGIN:DAYLIGHT
TZOFFSETFROM:-0500
TZOFFSETTO:-0400
TZNAME:EDT
DTSTART:20170312T070000
END:DAYLIGHT
BEGIN:STANDARD
TZOFFSETFROM:-0400
TZOFFSETTO:-0500
TZNAME:EST
DTSTART:20171105T060000
END:STANDARD
BEGIN:DAYLIGHT
TZOFFSETFROM:-0500
TZOFFSETTO:-0400
TZNAME:EDT
DTSTART:20180311T070000
END:DAYLIGHT
BEGIN:STANDARD
TZOFFSETFROM:-0400
TZOFFSETTO:-0500
TZNAME:EST
DTSTART:20181104T060000
END:STANDARD
BEGIN:DAYLIGHT
TZOFFSETFROM:-0500
TZOFFSETTO:-0400
TZNAME:EDT
DTSTART:20190310T070000
END:DAYLIGHT
BEGIN:STANDARD
TZOFFSETFROM:-0400
TZOFFSETTO:-0500
TZNAME:EST
DTSTART:20191103T060000
END:STANDARD
END:VTIMEZONE
BEGIN:VEVENT
DTSTART;TZID=America/New_York:20180129T183000
DTEND;TZID=America/New_York:20180129T203000
DTSTAMP:20260423T094619
CREATED:20180125T223551Z
LAST-MODIFIED:20180125T223551Z
UID:5291-1517250600-1517257800@prologika.com
SUMMARY:H*ckin Sweet Reports with Power BI
DESCRIPTION:Presentation:\nH*ckin Sweet Reports with Power BI\n\n\n\nLevel: Intermediate\n\n\nDate:\nJanuary 29\, 2018\n\n\nTime\n6:30 – 8:30 PM ET\n\n\nPlace:\nSouth Terraces Building (Auditorium Room) \n115 Perimeter Center Place \nAtlanta\, GA 30346\n\n\nOverview:\nPower BI is constantly evolving; this session is an overview of the current elements of Power BI and ways to implement them\, based on experience in the field using it. Topics include the Power BI Service\, Power BI Desktop\, Power BI Embedded\, Pricing models and some details of Power BI Premium. Sample data set used in this presentation is from @Dog_Rates on Twitter.\n\n\nSpeaker:\nJulie Smith has spent close to 20 years moving data using varied tools such as MS Access\, MySQL\, and SQL Server versions 2000 and on. She is a Business Intelligence Consultant at Innovative Architects\, where she has been implementing Power BI v2 and Azure solutions for the last couple of years.\n\n\nSponsor:\nSince 2005\, Innovative Architects has been serving industries to help solve business and technology challenges. We provide business consulting\, development and implementation services for Microsoft platforms which include BizTalk\, SharePoint\, .NET\, Business Intelligence\, Mobile Apps and much more.\n\n\nPrototypes with Pizza\n“Power BI Writeback and Desktop Q&A” by Teo Lachev
URL:https://prologika.com/event/hckin-sweet-reports-with-power-bi/
LOCATION:South Terraces Building -Atlanta\, South Terraces Building (Auditorium Room)  115 Perimeter Center Place  Atlanta\, GA 30346\, Atlanta\, GA\, United States
CATEGORIES:Public Events
END:VEVENT
END:VCALENDAR