BEGIN:VCALENDAR
VERSION:2.0
PRODID:-//Prologika - ECPv6.15.20//NONSGML v1.0//EN
CALSCALE:GREGORIAN
METHOD:PUBLISH
X-ORIGINAL-URL:https://prologika.com
X-WR-CALDESC:Events for Prologika
REFRESH-INTERVAL;VALUE=DURATION:PT1H
X-Robots-Tag:noindex
X-PUBLISHED-TTL:PT1H
BEGIN:VTIMEZONE
TZID:America/New_York
BEGIN:DAYLIGHT
TZOFFSETFROM:-0500
TZOFFSETTO:-0400
TZNAME:EDT
DTSTART:20170312T070000
END:DAYLIGHT
BEGIN:STANDARD
TZOFFSETFROM:-0400
TZOFFSETTO:-0500
TZNAME:EST
DTSTART:20171105T060000
END:STANDARD
BEGIN:DAYLIGHT
TZOFFSETFROM:-0500
TZOFFSETTO:-0400
TZNAME:EDT
DTSTART:20180311T070000
END:DAYLIGHT
BEGIN:STANDARD
TZOFFSETFROM:-0400
TZOFFSETTO:-0500
TZNAME:EST
DTSTART:20181104T060000
END:STANDARD
BEGIN:DAYLIGHT
TZOFFSETFROM:-0500
TZOFFSETTO:-0400
TZNAME:EDT
DTSTART:20190310T070000
END:DAYLIGHT
BEGIN:STANDARD
TZOFFSETFROM:-0400
TZOFFSETTO:-0500
TZNAME:EST
DTSTART:20191103T060000
END:STANDARD
END:VTIMEZONE
BEGIN:VEVENT
DTSTART;TZID=America/New_York:20180412T090000
DTEND;TZID=America/New_York:20180412T170000
DTSTAMP:20260423T193650
CREATED:20180309T134831Z
LAST-MODIFIED:20180309T134831Z
UID:5402-1523523600-1523552400@prologika.com
SUMMARY:Power BI Dashboard in a Day (DIAD)
DESCRIPTION:Power BI is a business analytics service that gives you a single view of your business data\, with the ability to monitor the health of your business using live dashboards\, create rich interactive reports and access your data on the go\, from your mobile devices. \nPrologika with a partnership with Microsoft are pleased to offer a 1-day workshop covering the capabilities of Power BI. The goal of this informational session is to help you understand how to analyze your data in a rich and compelling way. Whether you are evaluating its ability to meet organizational requirements around data visualization and analysis or are looking to learn how Power BI can help you be more efficient and make a greater impact on the work you do every day\, this is the training for you. \nAt the end of the day\, attendees will better understand how to: \n\nConnect to\, import\, and transform data from a variety of sources\nDefine business rules and KPIs\nExplore data with powerful visualization tools\nBuild stunning reports\nShare their dashboards with their team and/or the world\n\nWe also encourage you to bring your own data in a CSV or Excel format\, to the workshop. The last 2 hours are dedicated to enabling you to build reports and dashboards on your own data with the support of your instructor. 
URL:https://prologika.com/event/power-bi-dashboard-in-a-day-diad/
LOCATION:Microsoft Office Alpharetta\, 8000 Avalon Boulevard\, Suite 900\, Alpharetta\, GA\, 30009\, United States
CATEGORIES:Public Events
ORGANIZER;CN="Prologika":MAILTO:info(at)prologika.com
END:VEVENT
END:VCALENDAR