BEGIN:VCALENDAR
VERSION:2.0
PRODID:-//Prologika - ECPv6.15.20//NONSGML v1.0//EN
CALSCALE:GREGORIAN
METHOD:PUBLISH
X-WR-CALNAME:Prologika
X-ORIGINAL-URL:https://prologika.com
X-WR-CALDESC:Events for Prologika
REFRESH-INTERVAL;VALUE=DURATION:PT1H
X-Robots-Tag:noindex
X-PUBLISHED-TTL:PT1H
BEGIN:VTIMEZONE
TZID:America/New_York
BEGIN:DAYLIGHT
TZOFFSETFROM:-0500
TZOFFSETTO:-0400
TZNAME:EDT
DTSTART:20180311T070000
END:DAYLIGHT
BEGIN:STANDARD
TZOFFSETFROM:-0400
TZOFFSETTO:-0500
TZNAME:EST
DTSTART:20181104T060000
END:STANDARD
BEGIN:DAYLIGHT
TZOFFSETFROM:-0500
TZOFFSETTO:-0400
TZNAME:EDT
DTSTART:20190310T070000
END:DAYLIGHT
BEGIN:STANDARD
TZOFFSETFROM:-0400
TZOFFSETTO:-0500
TZNAME:EST
DTSTART:20191103T060000
END:STANDARD
BEGIN:DAYLIGHT
TZOFFSETFROM:-0500
TZOFFSETTO:-0400
TZNAME:EDT
DTSTART:20200308T070000
END:DAYLIGHT
BEGIN:STANDARD
TZOFFSETFROM:-0400
TZOFFSETTO:-0500
TZNAME:EST
DTSTART:20201101T060000
END:STANDARD
END:VTIMEZONE
BEGIN:VEVENT
DTSTART;TZID=America/New_York:20190518T130000
DTEND;TZID=America/New_York:20190518T140000
DTSTAMP:20260424T093111
CREATED:20190425T142616Z
LAST-MODIFIED:20190425T142616Z
UID:6189-1558184400-1558188000@prologika.com
SUMMARY:What's New for BI in SQL Server 2019
DESCRIPTION:SQL Server 2019 delivers important data analytics features and enhancements. Join this session to discover what BI features are coming up in Database Engine\, SSIS\, SSAS\, SSRS (Power BI Report Server)\, and MDS\, and to see some of these preview features in action.
URL:https://prologika.com/event/whats-new-for-bi-in-sql-server-2019/
LOCATION:SQL Saturday Alpharetta\, 2875 Old Milton Pkwy\, Alpharetta\, GA\, 30009\, United States
CATEGORIES:Public Events
END:VEVENT
END:VCALENDAR