BEGIN:VCALENDAR
VERSION:2.0
PRODID:-//Prologika - ECPv6.15.20//NONSGML v1.0//EN
CALSCALE:GREGORIAN
METHOD:PUBLISH
X-WR-CALNAME:Prologika
X-ORIGINAL-URL:https://prologika.com
X-WR-CALDESC:Events for Prologika
REFRESH-INTERVAL;VALUE=DURATION:PT1H
X-Robots-Tag:noindex
X-PUBLISHED-TTL:PT1H
BEGIN:VTIMEZONE
TZID:America/New_York
BEGIN:DAYLIGHT
TZOFFSETFROM:-0500
TZOFFSETTO:-0400
TZNAME:EDT
DTSTART:20180311T070000
END:DAYLIGHT
BEGIN:STANDARD
TZOFFSETFROM:-0400
TZOFFSETTO:-0500
TZNAME:EST
DTSTART:20181104T060000
END:STANDARD
BEGIN:DAYLIGHT
TZOFFSETFROM:-0500
TZOFFSETTO:-0400
TZNAME:EDT
DTSTART:20190310T070000
END:DAYLIGHT
BEGIN:STANDARD
TZOFFSETFROM:-0400
TZOFFSETTO:-0500
TZNAME:EST
DTSTART:20191103T060000
END:STANDARD
BEGIN:DAYLIGHT
TZOFFSETFROM:-0500
TZOFFSETTO:-0400
TZNAME:EDT
DTSTART:20200308T070000
END:DAYLIGHT
BEGIN:STANDARD
TZOFFSETFROM:-0400
TZOFFSETTO:-0500
TZNAME:EST
DTSTART:20201101T060000
END:STANDARD
END:VTIMEZONE
BEGIN:VEVENT
DTSTART;TZID=America/New_York:20190608T063000
DTEND;TZID=America/New_York:20190608T203000
DTSTAMP:20260424T094420
CREATED:20190603T190154Z
LAST-MODIFIED:20190608T164947Z
UID:6263-1559975400-1560025800@prologika.com
SUMMARY:10 Ways to Empower Your BI Strategy with Power BI
DESCRIPTION:Not sure what value Power BI can bring to your BI strategy? Join me to discuss 10 ways Power BI can help augment your existing or envisioned Power BI strategy. If you’re interested in Power BI but you’re not sure how it fits within your organizational data strategy\, this event is for you. Discussion points include: \n\nOrganizational BI\nSelf-service BI\nCloud vs. on-premises deployments\nPredictive analytics\nExternal reporting\nIntegrated solutions\n\nGet your Power BI questions answered and see demos along the way. \n10 Ways to Empower Your BI Strategy with Power BI
URL:https://prologika.com/event/10-ways-to-empower-your-bi-strategy-with-power-bi-3/
LOCATION:Microsoft Office Alpharetta\, 8000 Avalon Boulevard\, Suite 900\, Alpharetta\, GA\, 30009\, United States
CATEGORIES:Public Events
END:VEVENT
END:VCALENDAR