BEGIN:VCALENDAR
VERSION:2.0
PRODID:-//Prologika - ECPv6.15.20//NONSGML v1.0//EN
CALSCALE:GREGORIAN
METHOD:PUBLISH
X-ORIGINAL-URL:https://prologika.com
X-WR-CALDESC:Events for Prologika
REFRESH-INTERVAL;VALUE=DURATION:PT1H
X-Robots-Tag:noindex
X-PUBLISHED-TTL:PT1H
BEGIN:VTIMEZONE
TZID:America/New_York
BEGIN:DAYLIGHT
TZOFFSETFROM:-0500
TZOFFSETTO:-0400
TZNAME:EDT
DTSTART:20190310T070000
END:DAYLIGHT
BEGIN:STANDARD
TZOFFSETFROM:-0400
TZOFFSETTO:-0500
TZNAME:EST
DTSTART:20191103T060000
END:STANDARD
BEGIN:DAYLIGHT
TZOFFSETFROM:-0500
TZOFFSETTO:-0400
TZNAME:EDT
DTSTART:20200308T070000
END:DAYLIGHT
BEGIN:STANDARD
TZOFFSETFROM:-0400
TZOFFSETTO:-0500
TZNAME:EST
DTSTART:20201101T060000
END:STANDARD
BEGIN:DAYLIGHT
TZOFFSETFROM:-0500
TZOFFSETTO:-0400
TZNAME:EDT
DTSTART:20210314T070000
END:DAYLIGHT
BEGIN:STANDARD
TZOFFSETFROM:-0400
TZOFFSETTO:-0500
TZNAME:EST
DTSTART:20211107T060000
END:STANDARD
END:VTIMEZONE
BEGIN:VEVENT
DTSTART;TZID=America/New_York:20200203T183000
DTEND;TZID=America/New_York:20200203T203000
DTSTAMP:20260424T215040
CREATED:20200202T202958Z
LAST-MODIFIED:20200202T202958Z
UID:6473-1580754600-1580761800@prologika.com
SUMMARY:Atlanta MS and Power BI Group Meeting
DESCRIPTION:Aggregations in Power BI \nAggregations are one of the most important optimization methods for managing big datasets in Power BI. Combined with Direct Query storage mode\, they allow big datasets to be analyzed efficiently by answering high level analytical queries quickly from memory while sending more detailed queries back to the source database. In this session\, you will learn about the concept of aggregations\, different table storage modes in Power BI\, different kinds of aggregation tables\, how to configure aggregation tables so that they can answer high level user queries\, and finally how to use tools such as DAX Studio or Extended Events to determine if the aggregations are actually being used.
URL:https://prologika.com/event/atlanta-ms-and-power-bi-group-meeting/
LOCATION:Microsoft Office Alpharetta\, 8000 Avalon Boulevard\, Suite 900\, Alpharetta\, GA\, 30009\, United States
CATEGORIES:Public Events
END:VEVENT
END:VCALENDAR