BEGIN:VCALENDAR
VERSION:2.0
PRODID:-//Prologika - ECPv6.15.20//NONSGML v1.0//EN
CALSCALE:GREGORIAN
METHOD:PUBLISH
X-WR-CALNAME:Prologika
X-ORIGINAL-URL:https://prologika.com
X-WR-CALDESC:Events for Prologika
REFRESH-INTERVAL;VALUE=DURATION:PT1H
X-Robots-Tag:noindex
X-PUBLISHED-TTL:PT1H
BEGIN:VTIMEZONE
TZID:America/New_York
BEGIN:DAYLIGHT
TZOFFSETFROM:-0500
TZOFFSETTO:-0400
TZNAME:EDT
DTSTART:20190310T070000
END:DAYLIGHT
BEGIN:STANDARD
TZOFFSETFROM:-0400
TZOFFSETTO:-0500
TZNAME:EST
DTSTART:20191103T060000
END:STANDARD
BEGIN:DAYLIGHT
TZOFFSETFROM:-0500
TZOFFSETTO:-0400
TZNAME:EDT
DTSTART:20200308T070000
END:DAYLIGHT
BEGIN:STANDARD
TZOFFSETFROM:-0400
TZOFFSETTO:-0500
TZNAME:EST
DTSTART:20201101T060000
END:STANDARD
BEGIN:DAYLIGHT
TZOFFSETFROM:-0500
TZOFFSETTO:-0400
TZNAME:EDT
DTSTART:20210314T070000
END:DAYLIGHT
BEGIN:STANDARD
TZOFFSETFROM:-0400
TZOFFSETTO:-0500
TZNAME:EST
DTSTART:20211107T060000
END:STANDARD
END:VTIMEZONE
BEGIN:VEVENT
DTSTART;TZID=America/New_York:20200210T090000
DTEND;TZID=America/New_York:20200210T170000
DTSTAMP:20260424T202523
CREATED:20191218T213603Z
LAST-MODIFIED:20200121T192642Z
UID:6408-1581325200-1581354000@prologika.com
SUMMARY:Power Platform World Tour Precon
DESCRIPTION:Organized by Microsoft and Dynamic Communities\, the Power Platform World Tour will take a place in Atlanta from 2/10-2/12\, 2020. I’m teaching Power BI Dashboard in a Day (DIAD) on Feb 10 for a full day. Although this is a paid event ($599)\, you should get a great business value as the audience will probably be smaller and I’ll be able to provide more personal attention.
URL:https://prologika.com/event/power-platform-world-tour-precon/
LOCATION:Atlanta Marriott Marquis\, 265 Peachtree Center Ave NE\, Atlanta\, GA\, 30303\, United States
END:VEVENT
END:VCALENDAR