BEGIN:VCALENDAR
VERSION:2.0
PRODID:-//Prologika - ECPv6.15.20//NONSGML v1.0//EN
CALSCALE:GREGORIAN
METHOD:PUBLISH
X-WR-CALNAME:Prologika
X-ORIGINAL-URL:https://prologika.com
X-WR-CALDESC:Events for Prologika
REFRESH-INTERVAL;VALUE=DURATION:PT1H
X-Robots-Tag:noindex
X-PUBLISHED-TTL:PT1H
BEGIN:VTIMEZONE
TZID:America/New_York
BEGIN:DAYLIGHT
TZOFFSETFROM:-0500
TZOFFSETTO:-0400
TZNAME:EDT
DTSTART:20190310T070000
END:DAYLIGHT
BEGIN:STANDARD
TZOFFSETFROM:-0400
TZOFFSETTO:-0500
TZNAME:EST
DTSTART:20191103T060000
END:STANDARD
BEGIN:DAYLIGHT
TZOFFSETFROM:-0500
TZOFFSETTO:-0400
TZNAME:EDT
DTSTART:20200308T070000
END:DAYLIGHT
BEGIN:STANDARD
TZOFFSETFROM:-0400
TZOFFSETTO:-0500
TZNAME:EST
DTSTART:20201101T060000
END:STANDARD
BEGIN:DAYLIGHT
TZOFFSETFROM:-0500
TZOFFSETTO:-0400
TZNAME:EDT
DTSTART:20210314T070000
END:DAYLIGHT
BEGIN:STANDARD
TZOFFSETFROM:-0400
TZOFFSETTO:-0500
TZNAME:EST
DTSTART:20211107T060000
END:STANDARD
END:VTIMEZONE
BEGIN:VEVENT
DTSTART;TZID=America/New_York:20200421T090000
DTEND;TZID=America/New_York:20200421T170000
DTSTAMP:20260425T114208
CREATED:20200405T191823Z
LAST-MODIFIED:20200405T220208Z
UID:6841-1587459600-1587488400@prologika.com
SUMMARY:Virtual Power Platform App in a Day (AIAD) on April 21
DESCRIPTION:Are you looking for an agile self-service platform for automating business process that doesn’t require reliance on IT? PowerApps is a low or no-code application builder from Microsoft that gives you a way to do more with less and deliver applications to your end-users at a rapid pace. Partnering with Microsoft\, Prologika is pleased to offer an 1-day instructor-led workshop covering the fundamentals of the Microsoft Power Platform which encompasses Power Apps\, Power Automate\, Power BI\, and Common Data Services (CDS). Redesigned for digital delivery\, this workshop will help you automate processes in your organization without writing code! \n  \nAttend this insightful 1-day workshop from anywhere for only $199\, when Teo Lachev (CEO of Prologika\, a Power BI Red Carpet Partner) teaches you practical knowledge that you can immediately apply to your job. See how Power Platform can improve your usability and productivity and transform your organization business. \n  \nKey Benefits \nAt the end of the day\, you’ll learn how to: \n\n\nImplement highly-customizable Power Apps canvas applications that can run on any device\nStore and retrieve data from Common Data Services (CDS) to avoid provisioning database servers\nCreate model-driven apps for data entry forms and workflows\nApply Power Automate to automate business processes\, such as an approval flow\nImplement a Power BI model to analyze the app data\nLearn best practices and get your questions answered\n\nAgenda \nThe workshop will be conducted online. Login instructions will be sent to registered attendees before the event. All times are Eastern Time zone (GMT-4). \nMorning\n09:00 AM –10:00 AM –Introduction to Power Platform\n10:00 AM –11:15AM–Lab 1 Canvas Apps\n11:15AM –12:30PM –Lab 2 Common Data Service\n12:30 PM –01:00 PM –Break for lunch (finish lab 2 over lunch) \nAfternoon\n01:00 PM –02:30 PM–Lab 3 Model-driven apps\n02:30 PM –03:30 PM –Lab 4 Power Automate\n03:30 PM –04:30PM–Lab 5 Power BI\n04:45PM –05:00 PM–Q&A \nYour Instructor \nThrough his Atlanta-based company Prologika (https://prologika.com)\, a Microsoft Gold Partner in Data Analytics\, Teo Lachev helps organizations make sense of their most valuable asset: their data. His strategy formulation\, trusted advisory and mentoring\, design and implementation services empower clients to apply effectively data analytics in order to understand\, improve\, and transform their business processes. Teo has authored and co-authored several books on organizational and self-service data analytics\, and he has been leading the Atlanta Microsoft BI and Power BI group since he founded it in 2010. Microsoft has awarded Teo the Most Valued Professional (MVP) – Data Platform award every year since 2004 for his expertise and contributions to the community. \n \nCancellation Policy\nTickets are not refundable but can be assigned to someone else if you can’t attend.
URL:https://prologika.com/event/aiad20200421/
LOCATION:Virtual Meeting
CATEGORIES:Public Events
ORGANIZER;CN="Prologika":MAILTO:info(at)prologika.com
END:VEVENT
END:VCALENDAR