BEGIN:VCALENDAR
VERSION:2.0
PRODID:-//Prologika - ECPv6.15.20//NONSGML v1.0//EN
CALSCALE:GREGORIAN
METHOD:PUBLISH
X-ORIGINAL-URL:https://prologika.com
X-WR-CALDESC:Events for Prologika
REFRESH-INTERVAL;VALUE=DURATION:PT1H
X-Robots-Tag:noindex
X-PUBLISHED-TTL:PT1H
BEGIN:VTIMEZONE
TZID:America/New_York
BEGIN:DAYLIGHT
TZOFFSETFROM:-0500
TZOFFSETTO:-0400
TZNAME:EDT
DTSTART:20190310T070000
END:DAYLIGHT
BEGIN:STANDARD
TZOFFSETFROM:-0400
TZOFFSETTO:-0500
TZNAME:EST
DTSTART:20191103T060000
END:STANDARD
BEGIN:DAYLIGHT
TZOFFSETFROM:-0500
TZOFFSETTO:-0400
TZNAME:EDT
DTSTART:20200308T070000
END:DAYLIGHT
BEGIN:STANDARD
TZOFFSETFROM:-0400
TZOFFSETTO:-0500
TZNAME:EST
DTSTART:20201101T060000
END:STANDARD
BEGIN:DAYLIGHT
TZOFFSETFROM:-0500
TZOFFSETTO:-0400
TZNAME:EDT
DTSTART:20210314T070000
END:DAYLIGHT
BEGIN:STANDARD
TZOFFSETFROM:-0400
TZOFFSETTO:-0500
TZNAME:EST
DTSTART:20211107T060000
END:STANDARD
END:VTIMEZONE
BEGIN:VEVENT
DTSTART;TZID=America/New_York:20200430T090000
DTEND;TZID=America/New_York:20200430T170000
DTSTAMP:20260425T071231
CREATED:20200418T212806Z
LAST-MODIFIED:20200418T212806Z
UID:7114-1588237200-1588266000@prologika.com
SUMMARY:Virtual Power BI Dashboard in a Day (DIAD) on April 30
DESCRIPTION:Are you looking for an agile self-service BI platform that doesn’t require reporting and query skills to get basic analytics done without reliance on IT?  Partnering with Microsoft\, Prologika is pleased to offer an 1-day instructor-led workshop covering the end-to-end self-service BI process with Power BI. Redesigned for digital delivery\, this workshop will help you understand how to analyze your data in a rich and compelling way. Whether you are evaluating its ability to meet organizational requirements around data visualization and analysis or are looking to learn how Power BI can help you be more efficient and make a greater impact on the work you do every day\, this is the training for you. \n  \nRegister for this workshop to hone your data analytics skills! Drive value for your organization and on the road\nto recovery after COVID-19. Attend from anywhere for only $199\, when Teo Lachev (CEO of Prologika\, a Power BI Red Carpet Partner) teaches you practical Power BI knowledge and data analytics skills that you can immediately apply to your job. See how Power BI can improve your usability and productivity even further. \n  \nKey Benefits \nAt the end of the day\, you’ll learn how to: \n\n\nConnect to\, import\, and transform data from a variety of sources\nDefine business rules and KPIs\nExplore data with powerful visualization tools\nBuild stunning reports\nShare their dashboards with their team and/or the world\nLearn best practices and get your Power BI questions answered\n\nAgenda \nThe workshop will be conducted online. Login instructions will be sent to registered attendees before the event. All times are Eastern Time zone (GMT-4). \nMorning\n09:00 AM –10:00 AM –Introduction to Power BI\n10:00 AM –10:30 AM–Lab 1 Accessing & Preparing the data\n10:30 AM –10:45 AM – Break\n10:45 AM –11:15 AM –Lab 1 Solution + Questions\n11:15 AM –11:45 AM –Lab 2 Data Modeling and Exploration\n11:45 AM –12:30 PM –Lab 2 Solution + Questions\n12:30 PM –01:00 PM –Break for lunch \nAfternoon\n01:00 PM –01:30 PM–Lab 3 Visualizations\n01:30 PM –02:00 PM–Lab 3 Solution + Questions\n02:00 PM –02:30 PM –Lab 4 Publishing and accessing Reports\n02:30 PM –02:45 PM–Break\n02:45 PM –03:15 PM–Lab 4 Solution + Questions\n03:15 PM –03:45 PM–Lab 5 Building a Dashboard and Sharing\n03:45 PM –04:15 PM–Lab 5 Solution + Questions\n04:15 PM –05:00 PM–Q&A \nYour Instructor \nThrough his Atlanta-based company Prologika (https://prologika.com)\, a Microsoft Gold Partner in Data Analytics\, Teo Lachev helps organizations make sense of their most valuable asset: their data. His strategy formulation\, trusted advisory and mentoring\, design and implementation services empower clients to apply effectively data analytics in order to understand\, improve\, and transform their business processes. Teo has authored and co-authored several books on organizational and self-service data analytics\, and he has been leading the Atlanta Microsoft BI and Power BI group since he founded it in 2010. Microsoft has awarded Teo the Most Valued Professional (MVP) – Data Platform award every year since 2004 for his expertise and contributions to the community. \n \nCancellation Policy\nTickets are not refundable but can be reassigned to someone else if you can’t attend.
URL:https://prologika.com/event/diad20200430/
LOCATION:Virtual Meeting
CATEGORIES:Online Training
ORGANIZER;CN="Prologika":MAILTO:info(at)prologika.com
END:VEVENT
END:VCALENDAR