BEGIN:VCALENDAR
VERSION:2.0
PRODID:-//Prologika - ECPv6.15.20//NONSGML v1.0//EN
CALSCALE:GREGORIAN
METHOD:PUBLISH
X-WR-CALNAME:Prologika
X-ORIGINAL-URL:https://prologika.com
X-WR-CALDESC:Events for Prologika
REFRESH-INTERVAL;VALUE=DURATION:PT1H
X-Robots-Tag:noindex
X-PUBLISHED-TTL:PT1H
BEGIN:VTIMEZONE
TZID:America/New_York
BEGIN:DAYLIGHT
TZOFFSETFROM:-0500
TZOFFSETTO:-0400
TZNAME:EDT
DTSTART:20150308T070000
END:DAYLIGHT
BEGIN:STANDARD
TZOFFSETFROM:-0400
TZOFFSETTO:-0500
TZNAME:EST
DTSTART:20151101T060000
END:STANDARD
BEGIN:DAYLIGHT
TZOFFSETFROM:-0500
TZOFFSETTO:-0400
TZNAME:EDT
DTSTART:20160313T070000
END:DAYLIGHT
BEGIN:STANDARD
TZOFFSETFROM:-0400
TZOFFSETTO:-0500
TZNAME:EST
DTSTART:20161106T060000
END:STANDARD
BEGIN:DAYLIGHT
TZOFFSETFROM:-0500
TZOFFSETTO:-0400
TZNAME:EDT
DTSTART:20170312T070000
END:DAYLIGHT
BEGIN:STANDARD
TZOFFSETFROM:-0400
TZOFFSETTO:-0500
TZNAME:EST
DTSTART:20171105T060000
END:STANDARD
END:VTIMEZONE
BEGIN:VEVENT
DTSTART;TZID=America/New_York:20160328T183000
DTEND;TZID=America/New_York:20160328T203000
DTSTAMP:20260423T060527
CREATED:20160316T050704Z
LAST-MODIFIED:20160418T104823Z
UID:3527-1459189800-1459197000@prologika.com
SUMMARY:A Closer Look at Azure Data Factory
DESCRIPTION:Azure Data Factory is a modern data orchestration platform design to help you manage any data of any size from any source. It also makes a number of technologies available to you such as Azure Machine learning so that you can integrate predictive machine learning models in your data pipelines. This platform enables you to create intelligent applications that not only provide insights but can also recommend actions upon specific events. Join me in this session as we take a closer look at many of the capabilities built into the platform. \nSpeaker:\nLuis Figueroa serves as the Practice Lead for the Data Platform and Analytics division at Allegient\, LLC. Luis is focused on delivering business solutions that leverage the Microsoft ecosystem of products. His areas of expertise are Data Warehousing\, Business Intelligence\, Big Data and Advanced Analytics. With 10+ years of experience in the field\, Luis has delivered data management solutions for companies across many industry verticals. Luis is also a Microsoft P-TSP and chapter leader of the PASS Data Science Virtual Chapter. \nSponsor:\nAllegient is a leading IT consulting firm that specializes in translating business objectives into technology solutions. We leverage proven technologies and methodologies that best align with your organization’s needs\, resources and timeline. Focus areas include Business Process Management\, Business Intelligence\, Collaboration\, Relationship Management (CRM/xRM)\, Custom Application Development & Sustainment\, and IT Service/Project Management.
URL:https://prologika.com/event/a-closer-look-at-azure-data-factory/
LOCATION:South Terraces Building -Atlanta\, South Terraces Building (Auditorium Room)  115 Perimeter Center Place  Atlanta\, GA 30346\, Atlanta\, GA\, United States
CATEGORIES:Public Events
END:VEVENT
END:VCALENDAR