BEGIN:VCALENDAR
VERSION:2.0
PRODID:-//Prologika - ECPv6.15.20//NONSGML v1.0//EN
CALSCALE:GREGORIAN
METHOD:PUBLISH
X-ORIGINAL-URL:https://prologika.com
X-WR-CALDESC:Events for Prologika
REFRESH-INTERVAL;VALUE=DURATION:PT1H
X-Robots-Tag:noindex
X-PUBLISHED-TTL:PT1H
BEGIN:VTIMEZONE
TZID:America/New_York
BEGIN:DAYLIGHT
TZOFFSETFROM:-0500
TZOFFSETTO:-0400
TZNAME:EDT
DTSTART:20190310T070000
END:DAYLIGHT
BEGIN:STANDARD
TZOFFSETFROM:-0400
TZOFFSETTO:-0500
TZNAME:EST
DTSTART:20191103T060000
END:STANDARD
BEGIN:DAYLIGHT
TZOFFSETFROM:-0500
TZOFFSETTO:-0400
TZNAME:EDT
DTSTART:20200308T070000
END:DAYLIGHT
BEGIN:STANDARD
TZOFFSETFROM:-0400
TZOFFSETTO:-0500
TZNAME:EST
DTSTART:20201101T060000
END:STANDARD
BEGIN:DAYLIGHT
TZOFFSETFROM:-0500
TZOFFSETTO:-0400
TZNAME:EDT
DTSTART:20210314T070000
END:DAYLIGHT
BEGIN:STANDARD
TZOFFSETFROM:-0400
TZOFFSETTO:-0500
TZNAME:EST
DTSTART:20211107T060000
END:STANDARD
END:VTIMEZONE
BEGIN:VEVENT
DTSTART;TZID=America/New_York:20200504T063000
DTEND;TZID=America/New_York:20200504T203000
DTSTAMP:20260423T061517
CREATED:20200418T213102Z
LAST-MODIFIED:20200418T213102Z
UID:7120-1588573800-1588624200@prologika.com
SUMMARY:Power BI Time Intelligence – Beyond the Basics
DESCRIPTION:Time-Intelligence refers to analyzing calculations and metrics across time and is the most common type of business intelligence reporting. Power BI has a lot of built in capabilities to help you get started but these alone are not always enough for most real-world solutions. The key to mastering time-intelligence in Power BI is a good date table and understanding how to manipulate the filter context. This session will teach you how to do both! \nIn this (demo-heavy) session\, we’ll quickly review Power BI’s built-in time intelligence capabilities and why you should avoid them! We’ll also cover the importance of a good date table\, what attributes it should include\, and how it can be leveraged to simplify complex time-intelligence calculations. Finally\, we’ll breakdown a handful of the 40+ DAX time-intelligence functions\, showing you how they work under the covers (hint: filter context) and how they can used in combination to accommodate complex business logic.
URL:https://prologika.com/event/power-bi-time-intelligence-beyond-the-basics/
LOCATION:Virtual Meeting
CATEGORIES:Public Events
END:VEVENT
END:VCALENDAR