BEGIN:VCALENDAR
VERSION:2.0
PRODID:-//Prologika - ECPv6.15.20//NONSGML v1.0//EN
CALSCALE:GREGORIAN
METHOD:PUBLISH
X-ORIGINAL-URL:https://prologika.com
X-WR-CALDESC:Events for Prologika
REFRESH-INTERVAL;VALUE=DURATION:PT1H
X-Robots-Tag:noindex
X-PUBLISHED-TTL:PT1H
BEGIN:VTIMEZONE
TZID:America/New_York
BEGIN:DAYLIGHT
TZOFFSETFROM:-0500
TZOFFSETTO:-0400
TZNAME:EDT
DTSTART:20150308T070000
END:DAYLIGHT
BEGIN:STANDARD
TZOFFSETFROM:-0400
TZOFFSETTO:-0500
TZNAME:EST
DTSTART:20151101T060000
END:STANDARD
BEGIN:DAYLIGHT
TZOFFSETFROM:-0500
TZOFFSETTO:-0400
TZNAME:EDT
DTSTART:20160313T070000
END:DAYLIGHT
BEGIN:STANDARD
TZOFFSETFROM:-0400
TZOFFSETTO:-0500
TZNAME:EST
DTSTART:20161106T060000
END:STANDARD
BEGIN:DAYLIGHT
TZOFFSETFROM:-0500
TZOFFSETTO:-0400
TZNAME:EDT
DTSTART:20170312T070000
END:DAYLIGHT
BEGIN:STANDARD
TZOFFSETFROM:-0400
TZOFFSETTO:-0500
TZNAME:EST
DTSTART:20171105T060000
END:STANDARD
END:VTIMEZONE
BEGIN:VEVENT
DTSTART;TZID=America/New_York:20161101T183000
DTEND;TZID=America/New_York:20161101T203000
DTSTAMP:20260425T132206
CREATED:20161022T224611Z
LAST-MODIFIED:20161022T224611Z
UID:4593-1478025000-1478032200@prologika.com
SUMMARY:Shiny and New: SQL Server 2016 Reporting Services
DESCRIPTION:SQL Server 2016 Reporting Services was a major upgrade to the reporting platform. The Report Manager was renamed to the Report Portal\, and received a complete overhaul. It is very modern and sleek\, with the ability to now embed KPIs! In addition\, the Report Builder tool received a face lift\, updating its interface to the more modern Office look. Reports received two new chart types\, the Tree Map and Sunburst. The biggest enhancement is the brand new Mobile Report Publisher! This powerful tool lets you quickly and easily create reports for a variety of platforms such as Apple’s iOS and Android. But the great news is that it’s not just for mobile platforms\, it works great in standard web browsers as well\, making it an ideal tool for creating dashboards for all your platforms. \nIn this session you’ll see all of these new features\, allowing you to come up to speed quickly and take advantage of these great features in your SSRS 2016 reports.
URL:https://prologika.com/event/shiny-and-new-sql-server-2016-reporting-services/
LOCATION:South Terraces Building -Atlanta\, South Terraces Building (Auditorium Room)  115 Perimeter Center Place  Atlanta\, GA 30346\, Atlanta\, GA\, United States
END:VEVENT
END:VCALENDAR