BEGIN:VCALENDAR
VERSION:2.0
PRODID:-//Prologika - ECPv6.15.20//NONSGML v1.0//EN
CALSCALE:GREGORIAN
METHOD:PUBLISH
X-ORIGINAL-URL:https://prologika.com
X-WR-CALDESC:Events for Prologika
REFRESH-INTERVAL;VALUE=DURATION:PT1H
X-Robots-Tag:noindex
X-PUBLISHED-TTL:PT1H
BEGIN:VTIMEZONE
TZID:America/New_York
BEGIN:DAYLIGHT
TZOFFSETFROM:-0500
TZOFFSETTO:-0400
TZNAME:EDT
DTSTART:20160313T070000
END:DAYLIGHT
BEGIN:STANDARD
TZOFFSETFROM:-0400
TZOFFSETTO:-0500
TZNAME:EST
DTSTART:20161106T060000
END:STANDARD
BEGIN:DAYLIGHT
TZOFFSETFROM:-0500
TZOFFSETTO:-0400
TZNAME:EDT
DTSTART:20170312T070000
END:DAYLIGHT
BEGIN:STANDARD
TZOFFSETFROM:-0400
TZOFFSETTO:-0500
TZNAME:EST
DTSTART:20171105T060000
END:STANDARD
BEGIN:DAYLIGHT
TZOFFSETFROM:-0500
TZOFFSETTO:-0400
TZNAME:EDT
DTSTART:20180311T070000
END:DAYLIGHT
BEGIN:STANDARD
TZOFFSETFROM:-0400
TZOFFSETTO:-0500
TZNAME:EST
DTSTART:20181104T060000
END:STANDARD
END:VTIMEZONE
BEGIN:VEVENT
DTSTART;TZID=America/New_York:20170130T183000
DTEND;TZID=America/New_York:20170130T203000
DTSTAMP:20260425T100402
CREATED:20170106T021518Z
LAST-MODIFIED:20170106T021518Z
UID:4670-1485801000-1485808200@prologika.com
SUMMARY:Master Data Management with SQL Server 2016 MDS
DESCRIPTION:Organizations that invest in master data management and improving the quality of their informational assets will be best positioned to reap the huge data dividend! Join our presentation for the Atlanta MS BI Group to learn how you can manage your master data and reference data with SQL Server Master Data Services (MDS). Learn about the new MDS features in SQL Server 2016.
URL:https://prologika.com/event/master-data-management-with-sql-server-2016-mds/
LOCATION:South Terraces Building -Atlanta\, South Terraces Building (Auditorium Room)  115 Perimeter Center Place  Atlanta\, GA 30346\, Atlanta\, GA\, United States
CATEGORIES:Public Events
END:VEVENT
END:VCALENDAR