BEGIN:VCALENDAR
VERSION:2.0
PRODID:-//Prologika - ECPv6.15.20//NONSGML v1.0//EN
CALSCALE:GREGORIAN
METHOD:PUBLISH
X-ORIGINAL-URL:https://prologika.com
X-WR-CALDESC:Events for Prologika
REFRESH-INTERVAL;VALUE=DURATION:PT1H
X-Robots-Tag:noindex
X-PUBLISHED-TTL:PT1H
BEGIN:VTIMEZONE
TZID:America/New_York
BEGIN:DAYLIGHT
TZOFFSETFROM:-0500
TZOFFSETTO:-0400
TZNAME:EDT
DTSTART:20160313T070000
END:DAYLIGHT
BEGIN:STANDARD
TZOFFSETFROM:-0400
TZOFFSETTO:-0500
TZNAME:EST
DTSTART:20161106T060000
END:STANDARD
BEGIN:DAYLIGHT
TZOFFSETFROM:-0500
TZOFFSETTO:-0400
TZNAME:EDT
DTSTART:20170312T070000
END:DAYLIGHT
BEGIN:STANDARD
TZOFFSETFROM:-0400
TZOFFSETTO:-0500
TZNAME:EST
DTSTART:20171105T060000
END:STANDARD
BEGIN:DAYLIGHT
TZOFFSETFROM:-0500
TZOFFSETTO:-0400
TZNAME:EDT
DTSTART:20180311T070000
END:DAYLIGHT
BEGIN:STANDARD
TZOFFSETFROM:-0400
TZOFFSETTO:-0500
TZNAME:EST
DTSTART:20181104T060000
END:STANDARD
END:VTIMEZONE
BEGIN:VEVENT
DTSTART;TZID=America/New_York:20170419T183000
DTEND;TZID=America/New_York:20170419T200000
DTSTAMP:20260422T235645
CREATED:20170319T155353Z
LAST-MODIFIED:20170319T155353Z
UID:4810-1492626600-1492632000@prologika.com
SUMMARY:7 Ways to Integrate Excel with Power BI
DESCRIPTION:Power BI is gaining a momentum but Excel still rules the corporate world. Fortunately\, Power BI and Excel are not exclusive choices. Join me to learn how you can preserve your Excel investment in Power BI. I’ll start by explaining the value Power BI brings to different types of users in your organization. Then\, I’ll discuss and demo seven options for integrating Excel with Power BI: \n\nImport Excel files in Power BI Service\nBuild self-service data models from Excel data\nDeploy Excel models to Power BI\nConvert Excel models to Power BI\nConnect to Excel reports\nAnalyze Power BI datasets in Excel\nAdd Excel reports to Power BI dashboards\n\n 
URL:https://prologika.com/event/7-ways-to-integrate-excel-with-power-bi/
LOCATION:Microsoft Office Alpharetta\, 8000 Avalon Boulevard\, Suite 900\, Alpharetta\, GA\, 30009\, United States
END:VEVENT
BEGIN:VEVENT
DTSTART;TZID=America/New_York:20170424T183000
DTEND;TZID=America/New_York:20170424T203000
DTSTAMP:20260422T235645
CREATED:20170403T121506Z
LAST-MODIFIED:20170403T121506Z
UID:4836-1493058600-1493065800@prologika.com
SUMMARY:Using Power BI to Track Software Development
DESCRIPTION:Learn how you can use Power BI to monitor the progress with rich\, interactive dashboards. Data from Visual Studio Team Services ODATA feeds and APIs as well as pulling data from DocumentDB\, teams can drill into their development performance and see where they may be having development performance. Data is accessed via embedded Power BI reports running on dedicated hardware throughout development team spaces as well as accessible via the web using SSO!
URL:https://prologika.com/event/powerbitrack/
LOCATION:South Terraces Building -Atlanta\, South Terraces Building (Auditorium Room)  115 Perimeter Center Place  Atlanta\, GA 30346\, Atlanta\, GA\, United States
CATEGORIES:Public Events
END:VEVENT
END:VCALENDAR