BEGIN:VCALENDAR
VERSION:2.0
PRODID:-//Prologika - ECPv6.15.20//NONSGML v1.0//EN
CALSCALE:GREGORIAN
METHOD:PUBLISH
X-ORIGINAL-URL:https://prologika.com
X-WR-CALDESC:Events for Prologika
REFRESH-INTERVAL;VALUE=DURATION:PT1H
X-Robots-Tag:noindex
X-PUBLISHED-TTL:PT1H
BEGIN:VTIMEZONE
TZID:America/New_York
BEGIN:DAYLIGHT
TZOFFSETFROM:-0500
TZOFFSETTO:-0400
TZNAME:EDT
DTSTART:20160313T070000
END:DAYLIGHT
BEGIN:STANDARD
TZOFFSETFROM:-0400
TZOFFSETTO:-0500
TZNAME:EST
DTSTART:20161106T060000
END:STANDARD
BEGIN:DAYLIGHT
TZOFFSETFROM:-0500
TZOFFSETTO:-0400
TZNAME:EDT
DTSTART:20170312T070000
END:DAYLIGHT
BEGIN:STANDARD
TZOFFSETFROM:-0400
TZOFFSETTO:-0500
TZNAME:EST
DTSTART:20171105T060000
END:STANDARD
BEGIN:DAYLIGHT
TZOFFSETFROM:-0500
TZOFFSETTO:-0400
TZNAME:EDT
DTSTART:20180311T070000
END:DAYLIGHT
BEGIN:STANDARD
TZOFFSETFROM:-0400
TZOFFSETTO:-0500
TZNAME:EST
DTSTART:20181104T060000
END:STANDARD
END:VTIMEZONE
BEGIN:VEVENT
DTSTART;TZID=America/New_York:20170608T180000
DTEND;TZID=America/New_York:20170608T200000
DTSTAMP:20260422T205020
CREATED:20170531T111219Z
LAST-MODIFIED:20170531T121148Z
UID:4972-1496944800-1496952000@prologika.com
SUMMARY:Understanding Power BI Premium
DESCRIPTION:Microsoft Power BI has enjoyed a lot of attention and success since it became generally available in July 2015.  But its licensing model and cloud-hosted limitations barred wide adoption\, especially with larger organizations. The recently introduced Power BI Premium will change all of this. Join this session to learn how Power BI Premium will allow your organization to achieve:\n• Flexibility to license by capacity\n• Greater scale and performance\n• Extending on-premises reporting with Power BI Report Server\n• Embedded analytics \nSpeaker’s bio: \nTeo Lachev is a consultant\, author\, and mentor\, with a focus on Data Analytics. Through his Atlanta-based company Prologika\, a Microsoft Gold Partner in Data Analytics\, he helps organizations make sense of their most valuable asset: their data. His strategy formulation\, trusted advisory and mentoring\, design and implementation services empower clients to apply effectively data analytics to understand\, improve\, and transform their business processes (learn more at https://prologika.com/case-studies/). Teo has authored and co-authored several bestselling books on organizational and self-service data analytics\, and he has been leading the Atlanta Microsoft BI and Power BI group since he founded it in 2010. Teo has been a Microsoft Most Valued Professional (MVP) Data Platform since 2010.
URL:https://prologika.com/event/understanding-powerbi-premium-greenville/
LOCATION:Carolina Power BI User Group\, 1001 Keys Drive\, Greenville\, GA\, 29615\, United States
CATEGORIES:Public Events
END:VEVENT
BEGIN:VEVENT
DTSTART;TZID=America/New_York:20170624T131500
DTEND;TZID=America/New_York:20170624T141500
DTSTAMP:20260422T205020
CREATED:20170531T111618Z
LAST-MODIFIED:20170531T111618Z
UID:4975-1498310100-1498313700@prologika.com
SUMMARY:Understanding Power BI Premium
DESCRIPTION:Microsoft Power BI has enjoyed a lot of attention and success since it became generally available in July 2015.  But its licensing model and cloud-hosted limitations barred wide adoption\, especially with larger organizations. The recently introduced Power BI Premium will change all of this. Join this session to learn how Power BI Premium will allow your organization to achieve:\n•	Flexibility to license by capacity\n•	Greater scale and performance\n•	Extending on-premises reporting with Power BI Report Server\n•	Embedded analytics
URL:https://prologika.com/event/understanding-power-bi-premium/
LOCATION:SQL Saturday Chattanooga\, 784 Vine Street\, Chattanooga\, TN\, 37403\, United States
CATEGORIES:Public Events
END:VEVENT
BEGIN:VEVENT
DTSTART;TZID=America/New_York:20170626T183000
DTEND;TZID=America/New_York:20170626T203000
DTSTAMP:20260422T205020
CREATED:20170531T111819Z
LAST-MODIFIED:20170531T111819Z
UID:4976-1498501800-1498509000@prologika.com
SUMMARY:Understanding Power BI Premium
DESCRIPTION:Microsoft Power BI has enjoyed a lot of attention and success since it became generally available in July 2015.  But its licensing model and cloud-hosted limitations barred wide adoption\, especially with larger organizations. The recently introduced Power BI Premium will change all of this. Join this session to learn how Power BI Premium will allow your organization to achieve:\n•	Flexibility to license by capacity\n•	Greater scale and performance\n•	Extending on-premises reporting with Power BI Report Server\n•	Embedded analytics
URL:https://prologika.com/event/understanding-power-bi-premium-2/
LOCATION:South Terraces Building -Atlanta\, South Terraces Building (Auditorium Room)  115 Perimeter Center Place  Atlanta\, GA 30346\, Atlanta\, GA\, United States
CATEGORIES:Public Events
END:VEVENT
END:VCALENDAR