BEGIN:VCALENDAR
VERSION:2.0
PRODID:-//Prologika - ECPv6.15.20//NONSGML v1.0//EN
CALSCALE:GREGORIAN
METHOD:PUBLISH
X-ORIGINAL-URL:https://prologika.com
X-WR-CALDESC:Events for Prologika
REFRESH-INTERVAL;VALUE=DURATION:PT1H
X-Robots-Tag:noindex
X-PUBLISHED-TTL:PT1H
BEGIN:VTIMEZONE
TZID:America/New_York
BEGIN:DAYLIGHT
TZOFFSETFROM:-0500
TZOFFSETTO:-0400
TZNAME:EDT
DTSTART:20170312T070000
END:DAYLIGHT
BEGIN:STANDARD
TZOFFSETFROM:-0400
TZOFFSETTO:-0500
TZNAME:EST
DTSTART:20171105T060000
END:STANDARD
BEGIN:DAYLIGHT
TZOFFSETFROM:-0500
TZOFFSETTO:-0400
TZNAME:EDT
DTSTART:20180311T070000
END:DAYLIGHT
BEGIN:STANDARD
TZOFFSETFROM:-0400
TZOFFSETTO:-0500
TZNAME:EST
DTSTART:20181104T060000
END:STANDARD
BEGIN:DAYLIGHT
TZOFFSETFROM:-0500
TZOFFSETTO:-0400
TZNAME:EDT
DTSTART:20190310T070000
END:DAYLIGHT
BEGIN:STANDARD
TZOFFSETFROM:-0400
TZOFFSETTO:-0500
TZNAME:EST
DTSTART:20191103T060000
END:STANDARD
END:VTIMEZONE
BEGIN:VEVENT
DTSTART;TZID=America/New_York:20181015T083000
DTEND;TZID=America/New_York:20181016T170000
DTSTAMP:20260423T224413
CREATED:20180821T010511Z
LAST-MODIFIED:20180918T123326Z
UID:5841-1539592200-1539709200@prologika.com
SUMMARY:2-Day Applied DAX with Power BI Workshop – Atlanta (Oct 15-16)
DESCRIPTION:Struggling with DAX? Data Analysis Expressions (DAX) is the expression language of Power BI\, Power Pivot\, and Analysis Services Tabular. It’s very powerful but it’s usually perceived as complex and requiring a steep learning curve. Taught by an established expert\, this two-day workshop is designed to help you become proficient with DAX.  Think of this workshop as advanced Power BI training. \nReserve your seat today to attend this insightful 2-day workshop for only $999\, when Teo Lachev (CEO of Prologika and Microsoft Data Platform MVP) teaches you the necessary DAX skills that you can immediately apply to your job. \nEvent Summary\n\nDate: October 15 and 16\nTime: 8:30 AM – 5 PM\nLocation: Microsoft Office in Alpharetta\nCatering: lunch provided\nSyllabus: available here\nPrice: $999 (use coupon SQL201810 for an instant 5% discount if you sign up two or more attendees from your company)\n\nKey Benefits\n\nUnderstand best practices for model design\nCreate advanced calculated columns\nMaster measures and evaluation contexts\nApply time intelligence\nWork with advanced relationships and data security\nLearn how to troubleshoot performance issues\nBrainstorm your DAX puzzles\nand much more…\n\nYou won’t want to miss this educational and engaging training event! Moreover\, after course completion and by the end of the year\, all course attendees will receive a free\, one-hour\, follow-up consultation with me on any Microsoft BI related topic. Please use the Tickets section at the bottom of this page to register today as seating is limited. \nAudience\n\nData analysts working with Power BI or Power Pivot\nBI Pros working with Power BI or Analysis Services Tabular\nIn general\, anyone interested in learning DAX\n\nPrerequisites\nStudents are encouraged to bring their own laptops for the exercises. Detail setup instructions and source files will be sent before the event. \nInstructor\nTeo Lachev is a consultant\, author\, and mentor specializing in Data Analytics. Teo helps organizations make sense of their most valuable asset: their data. His strategy formulation\, trusted advisory and mentoring\, design and implementation services empower his clients to apply effectively data analytics in order to understand\, improve\, and transform their business. Teo has authored and coauthored several books and his latest one is “Applied Microsoft Power BI (3rd edition)” He has been leading the Atlanta Microsoft Business Intelligence and Power BI Group since he founded it in 2010. Microsoft has recognized Teo’s expertise and contributions to the technical community by awarding him the prestigious Microsoft Most Valuable Professional (MVP) for Data Platform award since 2004. \nCancellation Policy\nYou can cancel your registration within 15 (or more days) advance notice in writing before the class start date. If you request a refund\, a $200 processing fee will be subtracted from the refund.  No refunds will be given to registrants who cancel within 15 days of the class start date\, or who don’t attend the class for whatever reason. You can always substitute other attendees for paid registrants at any time upon a written notice. If Prologika cancels the class for whatever reason\, we’ll issue a full refund to all paid registrants. Besides the registration fee\, Prologika will not refund any other expenses\, such as travel expenses and hotel reservations.
URL:https://prologika.com/event/2-day-applied-dax-workshop-201810/
LOCATION:Microsoft Office Alpharetta\, 8000 Avalon Boulevard\, Suite 900\, Alpharetta\, GA\, 30009\, United States
CATEGORIES:Public Events
ORGANIZER;CN="Prologika":MAILTO:info(at)prologika.com
END:VEVENT
END:VCALENDAR