BEGIN:VCALENDAR
VERSION:2.0
PRODID:-//Prologika - ECPv6.15.20//NONSGML v1.0//EN
CALSCALE:GREGORIAN
METHOD:PUBLISH
X-WR-CALNAME:Prologika
X-ORIGINAL-URL:https://prologika.com
X-WR-CALDESC:Events for Prologika
REFRESH-INTERVAL;VALUE=DURATION:PT1H
X-Robots-Tag:noindex
X-PUBLISHED-TTL:PT1H
BEGIN:VTIMEZONE
TZID:America/New_York
BEGIN:DAYLIGHT
TZOFFSETFROM:-0500
TZOFFSETTO:-0400
TZNAME:EDT
DTSTART:20180311T070000
END:DAYLIGHT
BEGIN:STANDARD
TZOFFSETFROM:-0400
TZOFFSETTO:-0500
TZNAME:EST
DTSTART:20181104T060000
END:STANDARD
BEGIN:DAYLIGHT
TZOFFSETFROM:-0500
TZOFFSETTO:-0400
TZNAME:EDT
DTSTART:20190310T070000
END:DAYLIGHT
BEGIN:STANDARD
TZOFFSETFROM:-0400
TZOFFSETTO:-0500
TZNAME:EST
DTSTART:20191103T060000
END:STANDARD
BEGIN:DAYLIGHT
TZOFFSETFROM:-0500
TZOFFSETTO:-0400
TZNAME:EDT
DTSTART:20200308T070000
END:DAYLIGHT
BEGIN:STANDARD
TZOFFSETFROM:-0400
TZOFFSETTO:-0500
TZNAME:EST
DTSTART:20201101T060000
END:STANDARD
END:VTIMEZONE
BEGIN:VEVENT
DTSTART;TZID=America/New_York:20190204T183000
DTEND;TZID=America/New_York:20190204T203000
DTSTAMP:20260424T032139
CREATED:20190120T151741Z
LAST-MODIFIED:20190120T151741Z
UID:6080-1549305000-1549312200@prologika.com
SUMMARY:Azure Data Lake for First Time Swimmers
DESCRIPTION:Data Lake may be the hot new way to store data for reporting\, but it can be scary if you’ve never dealt with one. If you have no idea what a data lake is\, have no fear! You will get an intro to the concept of data lake and what scenarios you should be considering it as your platform. From there you’ll get to see how Azure Data Lake Analytics and U-SQL allow developers and data professionals to create compelling analytics with data that previously was difficult to work with.
URL:https://prologika.com/event/azure-data-lake-for-first-time-swimmers/
LOCATION:Microsoft Office Alpharetta\, 8000 Avalon Boulevard\, Suite 900\, Alpharetta\, GA\, 30009\, United States
CATEGORIES:Public Events
END:VEVENT
END:VCALENDAR